Workbook

Sheet Summary
A1: Forecasting Error
A3: This practice assignment will give you an opportunity to quantify the error in your earlier forecast and consider the effects of the error.
A5: You are head of operations - actually you're the entire operations team - for Tractors, Tractors, and More Tractors, a suburban New York retailer of tractors.
A6: Your performance review is coming soon, and you know that forecast accuracy has been an area of concern for ownership, so you want to examine your error rate to facilitate a good conversation.
A9: Directions
B10: Paste your forecasts from the previous practice assignment on the ActualSales tab.
B11: Paste actual sales data for 7/2007-12/2007 from the actual sales xls into the ActualSales tab.
B12: Calculate Mean Absolute Error (or Deviation) and Mean Absolute Percent Error for each forecast method. This should include 6 months (7/2007-12/2007)
B13: Report the MAE and MAPE in the table below.
B14: Plot actual sales, your proposed forecast, and the upper and lower limits for the months 7/2007-12/2007. Use a heavier line weight for actual sales. Paste it to the right -> . | P14: Paste plot of actual and forecast here.
B17: Moving Average (3-month) | C17: Moving Average + Trend | D17: Weighted Moving Average (3-month) | E17: Weighted Moving Average + Trend | F17: Exponential Smoothing | G17: Exponential Smoothing + Trend | H17: Time-only Regression | I17: Causal | J17: Decomposed Time Series | K17: Excel | L17: Your Proposed Forecast
A18: MAE | B18: 57.833333 | C18: 69.083333 | D18: 63.833333 | E18: 75.083333 | F18: 34.5 | G18: 39.321429 | H18: 47.694444 | I18: 46.393153 | J18: 38.961457 | K18: 18.525814 | L18: 37.529408
A19: MAPE | B19: 0.093505794 | C19: 0.11169496 | D19: 0.10320668 | E19: 0.12139585 | F19: 0.055780113 | G19: 0.063575471 | H19: 0.077113087 | I19: 0.075009141 | J19: 0.062993464 | K19: 0.029952812 | L19: 0.060678105
A23: Questions
B24: Which forecasting method resulted in the worst MAPE? | M24: Month # | N24: Actual Sales
B25: Moving Average + Trend | M25: 37 | N25: 610
M26: 38 | N26: 610
B27: Which forecasting method resulted in the best MAPE? | M27: 39 | N27: 606
B28: Excel | M28: 40 | N28: 588
M29: 41 | N29: 630
B30: What is the difference (in percentage points) between the best MAPE and the MAPE from your proposed forecast? | M30: 42 | N30: 667
B31: 0.031
B33: Of the three parts on the BOM, which one would likely be most affected (i.e. shortages or surplus) by forecast error on the All Seasons Package?
B34: The Tractor would be affected because it has the longest lead time. The longer the lead time, the more likely inneficiencies and waste of resources are to occur, so a forecasting error may result in an either an excess or shortage of tractors being made to meet demand.
B36: If the state environmental protection department had announced at the end of August that rototillers would become illegal in the state within six months due to their mutilation of worms,
B37: and demand for 9/2007-12/2007 was zero, what excess inventory of rototillers would be expected?
B38: If demand for rototillers was zero from September 2007 to December 2007, it is likely that many retailers and distributors would have reduced their inventory levels during that time. Therefore, the excess inventory would likely be lower than if demand had remained constant

Sheet ActualSales
A2: MonthNum | B2: Date | C2: Actual Sales | D2: Moving Average (3-month) | E2: Moving Average + Trend | F2: Weighted Moving Average (3-month) | G2: Weighted Moving Average + Trend | H2: Exponential Smoothing | I2: Exponential Smoothing + Trend | J2: Time-only Regression | K2: Causal | L2: Decomposed Time Series | M2: Excel | N2: Your Proposed Forecast | O2: Your Lower Limit | P2: Your Upper Limit
A3: 1 | B3: 38169 | C3: 501
A4: 2 | B4: 38200 | C4: 503
A5: 3 | B5: 38231 | C5: 505
A6: 4 | B6: 38261 | C6: 507
A7: 5 | B7: 38292 | C7: 560
A8: 6 | B8: 38322 | C8: 576
A9: 7 | B9: 38353 | C9: 624
A10: 8 | B10: 38384 | C10: 639
A11: 9 | B11: 38412 | C11: 593
A12: 10 | B12: 38443 | C12: 582
A13: 11 | B13: 38473 | C13: 667
A14: 12 | B14: 38504 | C14: 644
... A37: 35 | B37: 39203 | C37: 725
A38: 36 | B38: 39234 | C38: 670 | Q38: MonthNum | R38: Date | S38: Actual Sales
A39: 37 | B39: 39264 | D39: 676.33333 | E39: 679.54762 | F39: 682.33333 | G39: 685.54762 | H39: 646 | I39: 649.21429 | J39: 658.15873 | K39: 655.80235 | L39: 561.23849 | M39: 579.93269 | N39: 647.41085 | O39: 561.23849 | P39: 685.54762 | Q39: 37 | R39: 39264 | S39: 610
A40: 38 | B40: 39295 | D40: 676.33333 | E40: 682.7619 | F40: 682.33333 | G40: 688.7619 | H40: 646 | I40: 652.42857 | J40: 661.37302 | K40: 658.74159 | L40: 562.79493 | M40: 582.6101 | N40: 649.41387 | O40: 562.79493 | P40: 688.7619 | Q40: 38 | R40: 39295 | S40: 610
A41: 39 | B41: 39326 | D41: 676.33333 | E41: 685.97619 | F41: 682.33333 | G41: 691.97619 | H41: 646 | I41: 655.64286 | J41: 664.5873 | K41: 663.17458 | L41: 564.35136 | M41: 584.71187 | N41: 651.5087 | O41: 564.35136 | P41: 691.97619 | Q41: 39 | R41: 39326 | S41: 606
A42: 40 | B42: 39356 | D42: 676.33333 | E42: 689.19048 | F42: 682.33333 | G42: 695.19048 | H42: 646 | I42: 658.85714 | J42: 667.80159 | K42: 666.86069 | L42: 607.83127 | M42: 578.98442 | N42: 656.93827 | O42: 578.98442 | P42: 695.19048 | Q42: 40 | R42: 39356 | S42: 588
A43: 41 | B43: 39387 | D43: 676.33333 | E43: 692.40476 | F43: 682.33333 | G43: 698.40476 | H43: 646 | I43: 662.07143 | J43: 671.01587 | K43: 670.5468 | L43: 609.503 | M43: 628.89167 | N43: 663.7505 | O43: 609.503 | P43: 698.40476 | Q43: 41 | R43: 39387 | S43: 630
A44: 42 | B44: 39417 | D44: 676.33333 | E44: 695.61905 | F44: 682.33333 | G44: 701.61905 | H44: 646 | I44: 665.28571 | J44: 674.23016 | K44: 674.23292 | L44: 611.17474 | M44: 644.71437 | N44: 667.15427 | O44: 611.17474 | P44: 701.61905 | Q44: 42 | R44: 39417 | S44: 667
D45: =ABS(D39-ActualSales!$S39) -> 66.333333 | E45: =ABS(E39-ActualSales!$S39) -> 69.547619 | F45: =ABS(F39-ActualSales!$S39) -> 72.333333 | G45: =ABS(G39-ActualSales!$S39) -> 75.547619 | H45: =ABS(H39-ActualSales!$S39) -> 36 | I45: =ABS(I39-ActualSales!$S39) -> 39.214286 | J45: =ABS(J39-ActualSales!$S39) -> 48.15873 | K45: =ABS(K39-ActualSales!$S39) -> 45.802349 | ... N45: =ABS(N39-ActualSales!$S39) -> 37.410845
D46: =ABS(D40-ActualSales!$S40) -> 66.333333 | E46: =ABS(E40-ActualSales!$S40) -> 72.761905 | F46: =ABS(F40-ActualSales!$S40) -> 72.333333 | G46: =ABS(G40-ActualSales!$S40) -> 78.761905 | H46: =ABS(H40-ActualSales!$S40) -> 36 | I46: =ABS(I40-ActualSales!$S40) -> 42.428571 | J46: =ABS(J40-ActualSales!$S40) -> 51.373016 | K46: =ABS(K40-ActualSales!$S40) -> 48.741585 | ... N46: =ABS(N40-ActualSales!$S40) -> 39.413867
D47: =ABS(D41-ActualSales!$S41) -> 70.333333 | E47: =ABS(E41-ActualSales!$S41) -> 79.97619 | F47: =ABS(F41-ActualSales!$S41) -> 76.333333 | G47: =ABS(G41-ActualSales!$S41) -> 85.97619 | H47: =ABS(H41-ActualSales!$S41) -> 40 | I47: =ABS(I41-ActualSales!$S41) -> 49.642857 | J47: =ABS(J41-ActualSales!$S41) -> 58.587302 | K47: =ABS(K41-ActualSales!$S41) -> 57.174576 | ... N47: =ABS(N41-ActualSales!$S41) -> 45.508701
D48: =ABS(D42-ActualSales!$S42) -> 88.333333 | E48: =ABS(E42-ActualSales!$S42) -> 101.19048 | F48: =ABS(F42-ActualSales!$S42) -> 94.333333 | G48: =ABS(G42-ActualSales!$S42) -> 107.19048 | H48: =ABS(H42-ActualSales!$S42) -> 58 | I48: =ABS(I42-ActualSales!$S42) -> 70.857143 | J48: =ABS(J42-ActualSales!$S42) -> 79.801587 | K48: =ABS(K42-ActualSales!$S42) -> 78.86069 | ... N48: =ABS(N42-ActualSales!$S42) -> 68.938272
D49: =ABS(D43-ActualSales!$S43) -> 46.333333 | E49: =ABS(E43-ActualSales!$S43) -> 62.404762 | F49: =ABS(F43-ActualSales!$S43) -> 52.333333 | G49: =ABS(G43-ActualSales!$S43) -> 68.404762 | H49: =ABS(H43-ActualSales!$S43) -> 16 | I49: =ABS(I43-ActualSales!$S43) -> 32.071429 | J49: =ABS(J43-ActualSales!$S43) -> 41.015873 | K49: =ABS(K43-ActualSales!$S43) -> 40.546803 | ... N49: =ABS(N43-ActualSales!$S43) -> 33.750497
D50: =ABS(D44-ActualSales!$S44) -> 9.3333333 | E50: =ABS(E44-ActualSales!$S44) -> 28.619048 | F50: =ABS(F44-ActualSales!$S44) -> 15.333333 | G50: =ABS(G44-ActualSales!$S44) -> 34.619048 | H50: =ABS(H44-ActualSales!$S44) -> 21 | I50: =ABS(I44-ActualSales!$S44) -> 1.7142857 | J50: =ABS(J44-ActualSales!$S44) -> 7.2301587 | K50: =ABS(K44-ActualSales!$S44) -> 7.2329171 | ... N50: =ABS(N44-ActualSales!$S44) -> 0.15426629
D51: =AVERAGE(D45:D50) -> 57.833333 | E51: =AVERAGE(E45:E50) -> 69.083333 | F51: =AVERAGE(F45:F50) -> 63.833333 | G51: =AVERAGE(G45:G50) -> 75.083333 | H51: =AVERAGE(H45:H50) -> 34.5 | I51: =AVERAGE(I45:I50) -> 39.321429 | J51: =AVERAGE(J45:J50) -> 47.694444 | K51: =AVERAGE(K45:K50) -> 46.393153 | ... N51: =AVERAGE(N45:N50) -> 37.529408
D52: =D51/AVERAGE($S$39:S44) -> 0.093505794 | E52: =E51/AVERAGE($S$39:T44) -> 0.11169496 | F52: =F51/AVERAGE($S$39:U44) -> 0.10320668 | G52: =G51/AVERAGE($S$39:V44) -> 0.12139585 | H52: =H51/AVERAGE($S$39:W44) -> 0.055780113 | I52: =I51/AVERAGE($S$39:X44) -> 0.063575471 | J52: =J51/AVERAGE($S$39:Y44) -> 0.077113087 | K52: =K51/AVERAGE($S$39:Z44) -> 0.075009141 | ... N52: =N51/AVERAGE($S$39:AC44) -> 0.060678105

Sheet ActualSales_2020Q3_0930Section
A2: MonthNum | B2: Date | C2: Actual Sales | D2: Moving Average | E2: Weighted Moving Average + Trend | F2: Exponential Smoothing | G2: Exponential Smoothing + Trend | H2: Linear Regression (time only) | I2: Decomposed Time Series | J2: Causal Model | K2: Excel Forecasting Tool | L2: Your Proposed Forecast | M2: Your Lower Limit | N2: Your Upper Limit
A3: 1 | B3: 38169 | C3: 501
A4: 2 | B4: 38200 | C4: 503
A5: 3 | B5: 38231 | C5: 505
A6: 4 | B6: 38261 | C6: 507
A7: 5 | B7: 38292 | C7: 560
A8: 6 | B8: 38322 | C8: 576
A9: 7 | B9: 38353 | C9: 624
A10: 8 | B10: 38384 | C10: 639
A11: 9 | B11: 38412 | C11: 593
A12: 10 | B12: 38443 | C12: 582
A13: 11 | B13: 38473 | C13: 667
A14: 12 | B14: 38504 | C14: 644
... A38: 36 | B38: 39234 | C38: 670
A39: 37 | B39: 39264 | F39: Paste your forecasts from the previous practice assignment here.
A40: 38 | B40: 39295
A41: 39 | B41: 39326
A42: 40 | B42: 39356
A43: 41 | B43: 39387
A44: 42 | B44: 39417

Sheet ActualSales_2020Q3_1100Section
A2: MonthNum | B2: Date | C2: Actual Sales | D2: Moving Average | E2: Weighted Moving Average + Trend | F2: Exponential Smoothing | G2: Exponential Smoothing + Trend | H2: Linear Regression (time only) | I2: Decomposed Time Series | J2: Causal Model | K2: Excel Forecasting Tool | L2: Your Proposed Forecast | M2: Your Lower Limit | N2: Your Upper Limit
A3: 1 | B3: 38169 | C3: 501
A4: 2 | B4: 38200 | C4: 503
A5: 3 | B5: 38231 | C5: 505
A6: 4 | B6: 38261 | C6: 507
A7: 5 | B7: 38292 | C7: 560
A8: 6 | B8: 38322 | C8: 576
A9: 7 | B9: 38353 | C9: 624
A10: 8 | B10: 38384 | C10: 639
A11: 9 | B11: 38412 | C11: 593
A12: 10 | B12: 38443 | C12: 582
A13: 11 | B13: 38473 | C13: 667
A14: 12 | B14: 38504 | C14: 644
... A38: 36 | B38: 39234 | C38: 670
A39: 37 | B39: 39264 | F39: Paste your forecasts from the previous practice assignment here.
A40: 38 | B40: 39295
A41: 39 | B41: 39326
A42: 40 | B42: 39356
A43: 41 | B43: 39387
A44: 42 | B44: 39417

Sheet MRP_Info
B2: BOM for All Seasons Combo Pack
B3: Part | C3: Qty
B4: J325 Tractor | C4: 1
B5: Rototiller | C5: 1
B6: Snowthrower | C6: 1
B9: Part Lead Times (in months)
B10: J325 Tractor | C10: 4
B11: Rototiller | C11: 2
B12: Snowthrower | C12: 2
B16: Average Monthly Demand Under Other SKUs
B17: J325 Tractor | C17: 600
B18: Rototiller | C18: 0
B19: Snowthrower | C19: 950

Sheet Key
A2: Date | B2: Season | C2: DJIA
A3: 38169 | B3: 0 | C3: 10152.088
A4: 38200 | B4: 0 | C4: 10032.801
A5: 38231 | B5: 0 | C5: 10204.67
A6: 38261 | B6: 0 | C6: 10001.602
A7: 38292 | B7: 1 | C7: 10411.756
A8: 38322 | B8: 1 | C8: 10673.384
A9: 38353 | B9: 2 | C9: 10539.513
A10: 38384 | B10: 2 | C10: 10723.816
A11: 38412 | B11: 1 | C11: 10682.093
A12: 38443 | B12: 1 | C12: 10283.186
A13: 38473 | B13: 3 | C13: 10377.179
A14: 38504 | B14: 2 | C14: 10486.682
... A44: 39417 | B44: 1 | C44: 13406.989
